Package: edgeR Version: 4.8.0 Command: rm -rf edgeR.buildbin-libdir && mkdir edgeR.buildbin-libdir && /Users/biocbuild/BBS/utils/build-universal.sh edgeR_4.8.0.tar.gz /Library/Frameworks/R.framework/Resources/bin/R edgeR.buildbin-libdir StartedAt: 2025-11-01 01:32:44 -0400 (Sat, 01 Nov 2025) EndedAt: 2025-11-01 01:33:08 -0400 (Sat, 01 Nov 2025) EllapsedTime: 24.2 seconds RetCode: 0 Status: OK PackageFile: edgeR_4.8.0.tgz PackageFileSize: 2.653 MiB