Package: edgeR Version: 4.6.3 Command: /home/biocbuild/R/R/bin/R CMD INSTALL edgeR StartedAt: 2025-10-02 20:14:08 -0000 (Thu, 02 Oct 2025) EndedAt: 2025-10-02 20:14:56 -0000 (Thu, 02 Oct 2025) EllapsedTime: 48.2 seconds RetCode: 0 Status: OK