Package: edgeR Version: 4.6.3 Command: /Library/Frameworks/R.framework/Resources/bin/R CMD build --keep-empty-dirs --no-resave-data edgeR StartedAt: 2025-10-13 23:46:23 -0400 (Mon, 13 Oct 2025) EndedAt: 2025-10-13 23:46:55 -0400 (Mon, 13 Oct 2025) EllapsedTime: 32.1 seconds RetCode: 0 Status: OK PackageFile: edgeR_4.6.3.tar.gz PackageFileSize: 3.456 MiB