Package: edge Version: 2.42.0 Command: /Library/Frameworks/R.framework/Resources/bin/R CMD INSTALL edge StartedAt: 2025-11-10 15:09:47 -0500 (Mon, 10 Nov 2025) EndedAt: 2025-11-10 15:09:57 -0500 (Mon, 10 Nov 2025) EllapsedTime: 10.5 seconds RetCode: 0 Status: OK