Package: edge Version: 2.42.0 Command: /Library/Frameworks/R.framework/Resources/bin/R CMD build --keep-empty-dirs --no-resave-data edge StartedAt: 2025-11-10 16:17:59 -0500 (Mon, 10 Nov 2025) EndedAt: 2025-11-10 16:18:26 -0500 (Mon, 10 Nov 2025) EllapsedTime: 27.3 seconds RetCode: 0 Status: OK PackageFile: edge_2.42.0.tar.gz PackageFileSize: 1006 KiB