Package: easyreporting Version: 1.22.0 Command: /home/biocbuild/bbs-3.22-bioc/R/bin/R CMD INSTALL easyreporting StartedAt: 2025-11-13 15:07:48 -0500 (Thu, 13 Nov 2025) EndedAt: 2025-11-13 15:08:06 -0500 (Thu, 13 Nov 2025) EllapsedTime: 18.2 seconds RetCode: 0 Status: OK