Package: easyreporting Version: 1.20.0 Command: /Library/Frameworks/R.framework/Resources/bin/R CMD INSTALL easyreporting StartedAt: 2025-10-02 15:12:14 -0400 (Thu, 02 Oct 2025) EndedAt: 2025-10-02 15:12:48 -0400 (Thu, 02 Oct 2025) EllapsedTime: 33.7 seconds RetCode: 0 Status: OK