Package: easyreporting Version: 1.20.0 Command: rm -rf easyreporting.buildbin-libdir && mkdir easyreporting.buildbin-libdir && /Users/biocbuild/BBS/utils/build-universal.sh easyreporting_1.20.0.tar.gz /Library/Frameworks/R.framework/Resources/bin/R easyreporting.buildbin-libdir StartedAt: 2025-10-03 13:06:43 -0400 (Fri, 03 Oct 2025) EndedAt: 2025-10-03 13:06:57 -0400 (Fri, 03 Oct 2025) EllapsedTime: 14.0 seconds RetCode: 0 Status: OK PackageFile: easyreporting_1.20.0.tgz PackageFileSize: 3.108 MiB