Package: easyreporting Version: 1.20.0 Command: /home/biocbuild/R/R/bin/R CMD build --keep-empty-dirs --no-resave-data easyreporting StartedAt: 2025-09-26 00:56:17 -0000 (Fri, 26 Sep 2025) EndedAt: 2025-09-26 00:56:27 -0000 (Fri, 26 Sep 2025) EllapsedTime: 10.0 seconds RetCode: 0 Status: OK PackageFile: easyreporting_1.20.0.tar.gz PackageFileSize: 2.989 MiB