Package: easyreporting Version: 1.20.0 Command: rm -rf easyreporting.buildbin-libdir && mkdir easyreporting.buildbin-libdir && /Users/biocbuild/BBS/utils/build-universal.sh easyreporting_1.20.0.tar.gz /Library/Frameworks/R.framework/Resources/bin/R easyreporting.buildbin-libdir StartedAt: 2025-09-27 17:19:56 -0400 (Sat, 27 Sep 2025) EndedAt: 2025-09-27 17:20:03 -0400 (Sat, 27 Sep 2025) EllapsedTime: 6.8 seconds RetCode: 0 Status: OK PackageFile: easyreporting_1.20.0.tgz PackageFileSize: 3.109 MiB