Package: easylift Version: 1.8.0 Command: /home/biocbuild/bbs-3.22-bioc/R/bin/R CMD build --keep-empty-dirs --no-resave-data --md5 easylift StartedAt: 2025-11-11 17:31:05 -0500 (Tue, 11 Nov 2025) EndedAt: 2025-11-11 17:31:51 -0500 (Tue, 11 Nov 2025) EllapsedTime: 46.0 seconds RetCode: 0 Status: OK PackageFile: easylift_1.8.0.tar.gz PackageFileSize: 674.1 KiB