Package: easylift Version: 1.8.0 Command: /Library/Frameworks/R.framework/Resources/bin/R CMD build --keep-empty-dirs --no-resave-data easylift StartedAt: 2025-11-10 16:17:16 -0500 (Mon, 10 Nov 2025) EndedAt: 2025-11-10 16:17:40 -0500 (Mon, 10 Nov 2025) EllapsedTime: 23.2 seconds RetCode: 0 Status: OK PackageFile: easylift_1.8.0.tar.gz PackageFileSize: 673.5 KiB