Package: easyRNASeq Version: 2.46.0 Command: /home/biocbuild/R/R/bin/R CMD INSTALL easyRNASeq StartedAt: 2025-11-20 22:44:36 -0000 (Thu, 20 Nov 2025) EndedAt: 2025-11-20 22:45:37 -0000 (Thu, 20 Nov 2025) EllapsedTime: 61.9 seconds RetCode: 0 Status: OK