Package: easyRNASeq Version: 2.46.0 Command: /home/biocbuild/R/R/bin/R CMD build --keep-empty-dirs --no-resave-data easyRNASeq StartedAt: 2025-11-21 02:05:55 -0000 (Fri, 21 Nov 2025) EndedAt: 2025-11-21 02:11:29 -0000 (Fri, 21 Nov 2025) EllapsedTime: 333.3 seconds RetCode: 0 Status: OK PackageFile: easyRNASeq_2.46.0.tar.gz PackageFileSize: 69.57 MiB