Package: easyRNASeq Version: 2.46.0 Command: /home/biocbuild/bbs-3.22-bioc/R/bin/R CMD INSTALL easyRNASeq StartedAt: 2025-11-11 15:56:07 -0500 (Tue, 11 Nov 2025) EndedAt: 2025-11-11 15:56:55 -0500 (Tue, 11 Nov 2025) EllapsedTime: 48.5 seconds RetCode: 0 Status: OK