Package: easyRNASeq Version: 2.46.0 Command: /home/biocbuild/bbs-3.22-bioc/R/bin/R CMD check --install=check:easyRNASeq.install-out.txt --library=/home/biocbuild/bbs-3.22-bioc/R/site-library --timings easyRNASeq_2.46.0.tar.gz StartedAt: 2025-11-11 23:22:59 -0500 (Tue, 11 Nov 2025) EndedAt: 2025-11-11 23:35:46 -0500 (Tue, 11 Nov 2025) EllapsedTime: 766.8 seconds RetCode: 0 Status: WARNINGS CheckDir: easyRNASeq.Rcheck Warnings: 1