Package: easyRNASeq Version: 2.46.0 Command: /home/biocbuild/bbs-3.22-bioc/R/bin/R CMD build --keep-empty-dirs --no-resave-data --md5 easyRNASeq StartedAt: 2025-11-11 17:31:08 -0500 (Tue, 11 Nov 2025) EndedAt: 2025-11-11 17:34:57 -0500 (Tue, 11 Nov 2025) EllapsedTime: 228.2 seconds RetCode: 0 Status: OK PackageFile: easyRNASeq_2.46.0.tar.gz PackageFileSize: 69.56 MiB