Package: easyRNASeq Version: 2.44.0 Command: /home/biocbuild/bbs-3.21-bioc/R/bin/R CMD INSTALL easyRNASeq StartedAt: 2025-10-15 15:49:39 -0400 (Wed, 15 Oct 2025) EndedAt: 2025-10-15 15:50:23 -0400 (Wed, 15 Oct 2025) EllapsedTime: 43.4 seconds RetCode: 0 Status: OK