Package: easyRNASeq Version: 2.44.0 Command: /home/biocbuild/bbs-3.21-bioc/R/bin/R CMD build --keep-empty-dirs --no-resave-data easyRNASeq StartedAt: 2025-10-15 17:19:32 -0400 (Wed, 15 Oct 2025) EndedAt: 2025-10-15 17:23:16 -0400 (Wed, 15 Oct 2025) EllapsedTime: 224.2 seconds RetCode: 0 Status: OK PackageFile: easyRNASeq_2.44.0.tar.gz PackageFileSize: 69.55 MiB