Package: easyRNASeq Version: 2.44.0 Command: /home/biocbuild/R/R/bin/R CMD INSTALL easyRNASeq StartedAt: 2025-09-25 21:08:50 -0000 (Thu, 25 Sep 2025) EndedAt: 2025-09-25 21:09:55 -0000 (Thu, 25 Sep 2025) EllapsedTime: 64.5 seconds RetCode: 0 Status: OK