Package: easyRNASeq Version: 2.44.0 Command: /Library/Frameworks/R.framework/Resources/bin/R CMD INSTALL easyRNASeq StartedAt: 2025-10-13 17:58:19 -0400 (Mon, 13 Oct 2025) EndedAt: 2025-10-13 17:59:10 -0400 (Mon, 13 Oct 2025) EllapsedTime: 51.1 seconds RetCode: 0 Status: OK