Package: easier Version: 1.16.0 Command: /home/biocbuild/bbs-3.22-bioc/R/bin/R CMD build --keep-empty-dirs --no-resave-data --md5 easier StartedAt: 2025-11-11 17:30:46 -0500 (Tue, 11 Nov 2025) EndedAt: 2025-11-11 17:35:40 -0500 (Tue, 11 Nov 2025) EllapsedTime: 293.4 seconds RetCode: 0 Status: OK PackageFile: easier_1.16.0.tar.gz PackageFileSize: 3.675 MiB