Package: easier Version: 1.14.0 Command: /Library/Frameworks/R.framework/Resources/bin/R CMD INSTALL easier StartedAt: 2025-04-21 15:25:33 -0400 (Mon, 21 Apr 2025) EndedAt: 2025-04-21 15:26:18 -0400 (Mon, 21 Apr 2025) EllapsedTime: 44.5 seconds RetCode: 0 Status: OK