Package: easier Version: 1.14.0 Command: rm -rf easier.buildbin-libdir && mkdir easier.buildbin-libdir && /Users/biocbuild/BBS/utils/build-universal.sh easier_1.14.0.tar.gz /Library/Frameworks/R.framework/Resources/bin/R easier.buildbin-libdir StartedAt: 2025-04-22 00:43:40 -0400 (Tue, 22 Apr 2025) EndedAt: 2025-04-22 00:44:30 -0400 (Tue, 22 Apr 2025) EllapsedTime: 49.7 seconds RetCode: 0 Status: OK PackageFile: easier_1.14.0.tgz PackageFileSize: 2.887 MiB