Package: easier Version: 1.14.0 Command: /Library/Frameworks/R.framework/Resources/bin/R CMD INSTALL easier StartedAt: 2025-10-13 16:48:48 -0400 (Mon, 13 Oct 2025) EndedAt: 2025-10-13 16:49:27 -0400 (Mon, 13 Oct 2025) EllapsedTime: 38.9 seconds RetCode: 0 Status: OK