Package: easier Version: 1.14.0 Command: /Library/Frameworks/R.framework/Resources/bin/R CMD build --keep-empty-dirs --no-resave-data easier StartedAt: 2025-10-13 23:39:52 -0400 (Mon, 13 Oct 2025) EndedAt: 2025-10-13 23:46:53 -0400 (Mon, 13 Oct 2025) EllapsedTime: 421.3 seconds RetCode: 0 Status: OK PackageFile: easier_1.14.0.tar.gz PackageFileSize: 3.68 MiB