Package: easier Version: 1.14.0 Command: rm -rf easier.buildbin-libdir && mkdir easier.buildbin-libdir && /Users/biocbuild/BBS/utils/build-universal.sh easier_1.14.0.tar.gz /Library/Frameworks/R.framework/Resources/bin/R easier.buildbin-libdir StartedAt: 2025-10-15 18:19:41 -0400 (Wed, 15 Oct 2025) EndedAt: 2025-10-15 18:20:25 -0400 (Wed, 15 Oct 2025) EllapsedTime: 44.1 seconds RetCode: 0 Status: OK PackageFile: easier_1.14.0.tgz PackageFileSize: 2.888 MiB