Package: easier Version: 1.14.0 Maintainer: Oscar Lapuente-Santana MaintainerEmail: o.lapuente.santana at tue.nl git_url: https://git.bioconductor.org/packages/easier git_branch: RELEASE_3_21 git_last_commit: 39b3b1a git_last_commit_date: 2025-04-15 12:42:57 -0400 (Tue, 15 Apr 2025)