Package: dupRadar Version: 1.40.0 Command: /home/biocbuild/R/R/bin/R CMD INSTALL dupRadar StartedAt: 2025-11-13 21:08:13 -0000 (Thu, 13 Nov 2025) EndedAt: 2025-11-13 21:09:40 -0000 (Thu, 13 Nov 2025) EllapsedTime: 87.2 seconds RetCode: 0 Status: OK