Package: dupRadar Version: 1.40.0 Command: /home/biocbuild/bbs-3.22-bioc/R/bin/R CMD INSTALL dupRadar StartedAt: 2025-11-11 15:10:04 -0500 (Tue, 11 Nov 2025) EndedAt: 2025-11-11 15:10:45 -0500 (Tue, 11 Nov 2025) EllapsedTime: 40.4 seconds RetCode: 0 Status: OK