Package: dupRadar Version: 1.40.0 Command: /home/biocbuild/bbs-3.22-bioc/R/bin/R CMD check --install=check:dupRadar.install-out.txt --library=/home/biocbuild/bbs-3.22-bioc/R/site-library --timings dupRadar_1.40.0.tar.gz StartedAt: 2025-11-11 23:21:28 -0500 (Tue, 11 Nov 2025) EndedAt: 2025-11-11 23:22:40 -0500 (Tue, 11 Nov 2025) EllapsedTime: 72.1 seconds RetCode: 0 Status: OK CheckDir: dupRadar.Rcheck Warnings: 0