Package: dupRadar Version: 1.38.0 Command: /home/biocbuild/bbs-3.21-bioc/R/bin/R CMD INSTALL dupRadar StartedAt: 2025-10-15 15:05:23 -0400 (Wed, 15 Oct 2025) EndedAt: 2025-10-15 15:05:49 -0400 (Wed, 15 Oct 2025) EllapsedTime: 25.5 seconds RetCode: 0 Status: OK