Package: dupRadar Version: 1.38.0 Command: rm -rf dupRadar.buildbin-libdir && mkdir dupRadar.buildbin-libdir && /Users/biocbuild/BBS/utils/build-universal.sh dupRadar_1.38.0.tar.gz /Library/Frameworks/R.framework/Resources/bin/R dupRadar.buildbin-libdir StartedAt: 2025-04-21 22:33:45 -0400 (Mon, 21 Apr 2025) EndedAt: 2025-04-21 22:33:49 -0400 (Mon, 21 Apr 2025) EllapsedTime: 4.1 seconds RetCode: 0 Status: OK PackageFile: dupRadar_1.38.0.tgz PackageFileSize: 4.819 MiB