Package: dupRadar Version: 1.38.0 Command: rm -rf dupRadar.buildbin-libdir && mkdir dupRadar.buildbin-libdir && /Users/biocbuild/BBS/utils/build-universal.sh dupRadar_1.38.0.tar.gz /Library/Frameworks/R.framework/Resources/bin/R dupRadar.buildbin-libdir StartedAt: 2025-10-15 18:19:30 -0400 (Wed, 15 Oct 2025) EndedAt: 2025-10-15 18:19:39 -0400 (Wed, 15 Oct 2025) EllapsedTime: 8.9 seconds RetCode: 0 Status: OK PackageFile: dupRadar_1.38.0.tgz PackageFileSize: 4.829 MiB