Package: dupRadar Version: 1.40.0 Maintainer: Sergi Sayols , Holger Klein MaintainerEmail: holger.klein at gmail.com git_url: https://git.bioconductor.org/packages/dupRadar git_branch: RELEASE_3_22 git_last_commit: 25b25ba git_last_commit_date: 2025-10-29 10:27:51 -0400 (Wed, 29 Oct 2025)