Package: drugTargetInteractions Version: 1.18.0 Command: /home/biocbuild/bbs-3.22-bioc/R/bin/R CMD INSTALL drugTargetInteractions StartedAt: 2025-11-17 17:52:45 -0500 (Mon, 17 Nov 2025) EndedAt: 2025-11-17 17:53:25 -0500 (Mon, 17 Nov 2025) EllapsedTime: 39.6 seconds RetCode: 0 Status: OK