Package: drugTargetInteractions Version: 1.18.0 Command: /home/biocbuild/bbs-3.22-bioc/R/bin/R CMD build --keep-empty-dirs --no-resave-data --md5 drugTargetInteractions StartedAt: 2025-11-17 20:46:38 -0500 (Mon, 17 Nov 2025) EndedAt: 2025-11-17 20:48:26 -0500 (Mon, 17 Nov 2025) EllapsedTime: 108.1 seconds RetCode: 0 Status: OK PackageFile: drugTargetInteractions_1.18.0.tar.gz PackageFileSize: 960.5 KiB