Package: dreamlet Version: 1.8.0 Command: /home/biocbuild/bbs-3.22-bioc/R/bin/R CMD INSTALL dreamlet StartedAt: 2025-11-13 16:02:30 -0500 (Thu, 13 Nov 2025) EndedAt: 2025-11-13 16:03:41 -0500 (Thu, 13 Nov 2025) EllapsedTime: 70.1 seconds RetCode: 0 Status: OK