Package: dreamlet Version: 1.8.0 Command: /home/biocbuild/bbs-3.22-bioc/R/bin/R CMD check --install=check:dreamlet.install-out.txt --library=/home/biocbuild/bbs-3.22-bioc/R/site-library --timings dreamlet_1.8.0.tar.gz StartedAt: 2025-11-14 23:21:08 -0500 (Fri, 14 Nov 2025) EndedAt: 2025-11-14 23:38:55 -0500 (Fri, 14 Nov 2025) EllapsedTime: 1067.1 seconds RetCode: 0 Status: OK CheckDir: dreamlet.Rcheck Warnings: 0