Package: dreamlet Version: 1.8.0 Command: /home/biocbuild/bbs-3.22-bioc/R/bin/R CMD build --keep-empty-dirs --no-resave-data --md5 dreamlet StartedAt: 2025-11-13 17:28:00 -0500 (Thu, 13 Nov 2025) EndedAt: 2025-11-13 17:34:41 -0500 (Thu, 13 Nov 2025) EllapsedTime: 401.5 seconds RetCode: 0 Status: OK PackageFile: dreamlet_1.8.0.tar.gz PackageFileSize: 4.354 MiB