Package: dreamlet Version: 1.6.0 Command: /home/biocbuild/R/R/bin/R CMD INSTALL dreamlet StartedAt: 2025-10-02 21:17:11 -0000 (Thu, 02 Oct 2025) EndedAt: 2025-10-02 21:18:49 -0000 (Thu, 02 Oct 2025) EllapsedTime: 97.5 seconds RetCode: 0 Status: OK