Package: dreamlet Version: 1.6.0 Command: /home/biocbuild/R/R/bin/R CMD build --keep-empty-dirs --no-resave-data dreamlet StartedAt: 2025-10-03 00:33:17 -0000 (Fri, 03 Oct 2025) EndedAt: 2025-10-03 00:44:01 -0000 (Fri, 03 Oct 2025) EllapsedTime: 643.2 seconds RetCode: 0 Status: OK PackageFile: dreamlet_1.6.0.tar.gz PackageFileSize: 4.479 MiB