Package: dreamlet Version: 1.6.0 Command: rm -rf dreamlet.buildbin-libdir && mkdir dreamlet.buildbin-libdir && /Users/biocbuild/BBS/utils/build-universal.sh dreamlet_1.6.0.tar.gz /Library/Frameworks/R.framework/Resources/bin/R dreamlet.buildbin-libdir StartedAt: 2025-04-21 22:33:38 -0400 (Mon, 21 Apr 2025) EndedAt: 2025-04-21 22:34:04 -0400 (Mon, 21 Apr 2025) EllapsedTime: 25.6 seconds RetCode: 0 Status: OK PackageFile: dreamlet_1.6.0.tgz PackageFileSize: 4.985 MiB