Package: drawProteins Version: 1.30.0 Command: /home/biocbuild/bbs-3.22-bioc/R/bin/R CMD INSTALL drawProteins StartedAt: 2025-11-11 15:13:19 -0500 (Tue, 11 Nov 2025) EndedAt: 2025-11-11 15:13:23 -0500 (Tue, 11 Nov 2025) EllapsedTime: 4.2 seconds RetCode: 0 Status: OK