Package: drawProteins Version: 1.30.0 Command: /Library/Frameworks/R.framework/Resources/bin/R CMD INSTALL drawProteins StartedAt: 2025-10-31 15:20:18 -0400 (Fri, 31 Oct 2025) EndedAt: 2025-10-31 15:20:47 -0400 (Fri, 31 Oct 2025) EllapsedTime: 28.9 seconds RetCode: 0 Status: OK