Package: drawProteins Version: 1.30.0 Command: /Library/Frameworks/R.framework/Resources/bin/R CMD build --keep-empty-dirs --no-resave-data drawProteins StartedAt: 2025-10-31 16:56:29 -0400 (Fri, 31 Oct 2025) EndedAt: 2025-10-31 16:57:08 -0400 (Fri, 31 Oct 2025) EllapsedTime: 38.9 seconds RetCode: 0 Status: OK PackageFile: drawProteins_1.30.0.tar.gz PackageFileSize: 1.57 MiB