Package: drawProteins Version: 1.30.0 Command: rm -rf drawProteins.buildbin-libdir && mkdir drawProteins.buildbin-libdir && /Users/biocbuild/BBS/utils/build-universal.sh drawProteins_1.30.0.tar.gz /Library/Frameworks/R.framework/Resources/bin/R drawProteins.buildbin-libdir StartedAt: 2025-11-04 01:38:00 -0500 (Tue, 04 Nov 2025) EndedAt: 2025-11-04 01:38:10 -0500 (Tue, 04 Nov 2025) EllapsedTime: 10.3 seconds RetCode: 0 Status: OK PackageFile: drawProteins_1.30.0.tgz PackageFileSize: 1.617 MiB