Package: drawProteins Version: 1.28.0 Command: /home/biocbuild/R/R/bin/R CMD INSTALL drawProteins StartedAt: 2025-10-09 20:20:56 -0000 (Thu, 09 Oct 2025) EndedAt: 2025-10-09 20:21:02 -0000 (Thu, 09 Oct 2025) EllapsedTime: 6.2 seconds RetCode: 0 Status: OK