Package: drawProteins Version: 1.28.0 Command: /home/biocbuild/R/R/bin/R CMD build --keep-empty-dirs --no-resave-data drawProteins StartedAt: 2025-10-10 00:29:54 -0000 (Fri, 10 Oct 2025) EndedAt: 2025-10-10 00:30:34 -0000 (Fri, 10 Oct 2025) EllapsedTime: 40.0 seconds RetCode: 0 Status: OK PackageFile: drawProteins_1.28.0.tar.gz PackageFileSize: 1.486 MiB