Package: doubletrouble Version: 1.10.0 Command: /home/biocbuild/bbs-3.22-bioc/R/bin/R CMD INSTALL doubletrouble StartedAt: 2025-11-11 15:56:26 -0500 (Tue, 11 Nov 2025) EndedAt: 2025-11-11 15:57:13 -0500 (Tue, 11 Nov 2025) EllapsedTime: 47.0 seconds RetCode: 0 Status: OK